BEGIN:VCALENDAR
VERSION:2.0
PRODID:-//Eventin//Event Calendar//EN
CALSCALE:GREGORIAN
METHOD:PUBLISH
BEGIN:VEVENT
UID:79e9b74ce1d5018a57d17319fc2a84ee@amcpetlogistics.com
SUMMARY:London to Spain.
DESCRIPTION:Price per Cat - GBP 650.Price Per Dog - GBP 750.London to Madri
 d. Prices to other destinations may vary.\nPlease fill in the form below to
  reserve a place on this trip. \n\n*Spaces are subject to availability.\nA 
 deposit Payment of £50 will be required to confirm your booking. \n\n[wpf
 orms id="1306"]
LOCATION:London
DTSTAMP:20260419T131857Z
DTSTART:20260506T070000Z
DTEND:20260508T105500Z
END:VEVENT
END:VCALENDAR
