BEGIN:VCALENDAR
VERSION:2.0
PRODID:-//Eventin//Event Calendar//EN
CALSCALE:GREGORIAN
METHOD:PUBLISH
BEGIN:VEVENT
UID:68978537eb6e2c50e61912ae331d4dce@amcpetlogistics.com
SUMMARY:Madrid to UK
DESCRIPTION:Price per Cat - EUR 755. Price Per Dog - EUR 870.Madrid to Lond
 on. Prices to other destinations may vary.\nPlease fill in the form below t
 o reserve a place on this trip. \n\n*Spaces are subject to availability.\nA
  deposit Payment of EUR50 will be required to confirm your booking. \n\n[w
 pforms id="1306"]
LOCATION:Madrid
DTSTAMP:20260419T130754Z
DTSTART:20260507T070000Z
DTEND:20260509T105500Z
END:VEVENT
END:VCALENDAR
